BEGIN:VCALENDAR
VERSION:2.0
PRODID:-//Tukios.com/
BEGIN:VEVENT
UID:0884f972-575f-49a8-964f-234525e7ee45@www.pathwaymemorial.com
DTSTAMP:20260420T214737Z
DTSTART:20260428T160000Z
DTEND:20260428T170000Z
SUMMARY:Visitation
DESCRIPTION:
URL:https://www.pathwaymemorial.com/obituaries/erma-stross
LOCATION:Pathway Millard Family Funeral Chapel 411 Union Ave  Moberly MO 
	65270
GEO:39.4244832;-92.4314489
END:VEVENT
END:VCALENDAR