BEGIN:VCALENDAR
VERSION:2.0
PRODID:-//Tukios.com/
BEGIN:VEVENT
UID:e3389e23-fd92-4c27-ba87-31eeaed913d8@www.pathwaymemorial.com
DTSTAMP:20260420T214701Z
DTSTART:20260428T170000Z
DTEND:20260428T180000Z
SUMMARY:Memorial Service
DESCRIPTION:
URL:https://www.pathwaymemorial.com/obituaries/erma-stross
LOCATION:Pathway Millard Family Funeral Chapel 411 Union Ave  Moberly MO 
	65270
GEO:39.4244832;-92.4314489
END:VEVENT
END:VCALENDAR