BEGIN:VCALENDAR
VERSION:2.0
PRODID:-//Tukios.com/
BEGIN:VEVENT
UID:db40f1d6-bc60-42bc-ab8d-ec076f198d3f@www.pathwaymemorial.com
DTSTAMP:20260421T215527Z
DTSTART:20260424T160000Z
DTEND:20260424T170000Z
SUMMARY:Visitation
DESCRIPTION:
URL:https://www.pathwaymemorial.com/obituaries/keith-hinshaw
LOCATION:Pathway Millard Family Funeral Chapel 411 Union Ave  Moberly MO 
	65270
GEO:39.4244832;-92.4314489
END:VEVENT
END:VCALENDAR