BEGIN:VCALENDAR
VERSION:2.0
PRODID:-//Tukios.com/
BEGIN:VEVENT
UID:235fcb08-5e40-4e90-805a-55994117b8d0@www.pathwaymemorial.com
DTSTAMP:20260421T213548Z
DTSTART:20260530T190000Z
DTEND:20260530T200000Z
SUMMARY:Prayer Service
DESCRIPTION:
URL:https://www.pathwaymemorial.com/obituaries/terry-showalter
LOCATION:St. Pius X Church 209 South Williams Street  Moberly MO 65270
GEO:39.4172607;-92.439562
END:VEVENT
END:VCALENDAR