BEGIN:VCALENDAR
VERSION:2.0
PRODID:-//Tukios.com/
BEGIN:VEVENT
UID:5aaf653b-4b39-4463-bc08-576d81dbd317@www.pathwaymemorial.com
DTSTAMP:20260421T212616Z
DTSTART:20260530T200000Z
DTEND:20260530T210000Z
SUMMARY:Celebration of Life
DESCRIPTION:
URL:https://www.pathwaymemorial.com/obituaries/terry-showalter
LOCATION:Hillshire 1561 County Road 1510  Moberly MO 65270
GEO:39.4731063;-92.3483958
END:VEVENT
END:VCALENDAR